BEGIN:VCALENDAR
VERSION:2.0
PRODID:-//Wildwood Health Institute - ECPv6.15.17//NONSGML v1.0//EN
CALSCALE:GREGORIAN
METHOD:PUBLISH
X-ORIGINAL-URL:https://wildwoodhealth.org
X-WR-CALDESC:Events for Wildwood Health Institute
REFRESH-INTERVAL;VALUE=DURATION:PT1H
X-Robots-Tag:noindex
X-PUBLISHED-TTL:PT1H
BEGIN:VTIMEZONE
TZID:America/New_York
BEGIN:DAYLIGHT
TZOFFSETFROM:-0500
TZOFFSETTO:-0400
TZNAME:EDT
DTSTART:20240310T070000
END:DAYLIGHT
BEGIN:STANDARD
TZOFFSETFROM:-0400
TZOFFSETTO:-0500
TZNAME:EST
DTSTART:20241103T060000
END:STANDARD
BEGIN:DAYLIGHT
TZOFFSETFROM:-0500
TZOFFSETTO:-0400
TZNAME:EDT
DTSTART:20250309T070000
END:DAYLIGHT
BEGIN:STANDARD
TZOFFSETFROM:-0400
TZOFFSETTO:-0500
TZNAME:EST
DTSTART:20251102T060000
END:STANDARD
BEGIN:DAYLIGHT
TZOFFSETFROM:-0500
TZOFFSETTO:-0400
TZNAME:EDT
DTSTART:20260308T070000
END:DAYLIGHT
BEGIN:STANDARD
TZOFFSETFROM:-0400
TZOFFSETTO:-0500
TZNAME:EST
DTSTART:20261101T060000
END:STANDARD
END:VTIMEZONE
BEGIN:VEVENT
DTSTART;TZID=America/New_York:20250222T090000
DTEND;TZID=America/New_York:20250222T140000
DTSTAMP:20260419T161713
CREATED:20250126T184128Z
LAST-MODIFIED:20250214T012931Z
UID:10000016-1740214800-1740232800@wildwoodhealth.org
SUMMARY:Mission Focus
DESCRIPTION:Mission focus sabbath\, come let us spend sabbath together in Dayton as we highlight mission work here in the United States as well as foreign missions. If you are looking to be inspired and revived for missions\, you do not want to miss this.
URL:https://wildwoodhealth.org/event/mission-focus/
LOCATION:Dayton Community SDA Chapel\, 184 MULBERRY AVE.\, DAYTON\, TN\, 37321\, United States
ATTACH;FMTTYPE=image/jpeg:https://wildwoodhealth.org/wp-content/uploads/sites/7/2025/01/Mission-Focus.jpg
END:VEVENT
END:VCALENDAR