BEGIN:VCALENDAR
VERSION:2.0
PRODID:-//Wildwood Health Institute - ECPv6.15.17//NONSGML v1.0//EN
CALSCALE:GREGORIAN
METHOD:PUBLISH
X-WR-CALNAME:Wildwood Health Institute
X-ORIGINAL-URL:https://wildwoodhealth.org
X-WR-CALDESC:Events for Wildwood Health Institute
REFRESH-INTERVAL;VALUE=DURATION:PT1H
X-Robots-Tag:noindex
X-PUBLISHED-TTL:PT1H
BEGIN:VTIMEZONE
TZID:America/New_York
BEGIN:DAYLIGHT
TZOFFSETFROM:-0500
TZOFFSETTO:-0400
TZNAME:EDT
DTSTART:20240310T070000
END:DAYLIGHT
BEGIN:STANDARD
TZOFFSETFROM:-0400
TZOFFSETTO:-0500
TZNAME:EST
DTSTART:20241103T060000
END:STANDARD
BEGIN:DAYLIGHT
TZOFFSETFROM:-0500
TZOFFSETTO:-0400
TZNAME:EDT
DTSTART:20250309T070000
END:DAYLIGHT
BEGIN:STANDARD
TZOFFSETFROM:-0400
TZOFFSETTO:-0500
TZNAME:EST
DTSTART:20251102T060000
END:STANDARD
BEGIN:DAYLIGHT
TZOFFSETFROM:-0500
TZOFFSETTO:-0400
TZNAME:EDT
DTSTART:20260308T070000
END:DAYLIGHT
BEGIN:STANDARD
TZOFFSETFROM:-0400
TZOFFSETTO:-0500
TZNAME:EST
DTSTART:20261101T060000
END:STANDARD
END:VTIMEZONE
BEGIN:VEVENT
DTSTART;VALUE=DATE:20250316
DTEND;VALUE=DATE:20250321
DTSTAMP:20260419T143020
CREATED:20250220T162330Z
LAST-MODIFIED:20250220T162330Z
UID:10000019-1742083200-1742515199@wildwoodhealth.org
SUMMARY:Chattanooga Mission Trip
DESCRIPTION:Streams Of Light Chattanooga Mission Trip (March 16-20\, 2025) will be hosted in conjunction with ASI Southern Union Chapter\, the Georgia-Cumberland Conference\, local Adventist churches\, and Wildwood Health Institute to distribute up to 50\,000 copies of The Great Controversy and health magazines across Chattanooga\, Tennessee.  \nMore details and registration: www.streamsoflight.net/chattanooga-mission-trip/
URL:https://wildwoodhealth.org/event/chattanooga-mission-trip/
LOCATION:GA
ATTACH;FMTTYPE=image/jpeg:https://wildwoodhealth.org/wp-content/uploads/sites/7/2025/02/Chattanooga-Mission-Trip-Flyer.jpg
END:VEVENT
END:VCALENDAR