BEGIN:VCALENDAR
VERSION:2.0
PRODID:-//Wildwood Health Institute - ECPv6.15.17//NONSGML v1.0//EN
CALSCALE:GREGORIAN
METHOD:PUBLISH
X-WR-CALNAME:Wildwood Health Institute
X-ORIGINAL-URL:https://wildwoodhealth.org
X-WR-CALDESC:Events for Wildwood Health Institute
REFRESH-INTERVAL;VALUE=DURATION:PT1H
X-Robots-Tag:noindex
X-PUBLISHED-TTL:PT1H
BEGIN:VTIMEZONE
TZID:America/New_York
BEGIN:DAYLIGHT
TZOFFSETFROM:-0500
TZOFFSETTO:-0400
TZNAME:EDT
DTSTART:20240310T070000
END:DAYLIGHT
BEGIN:STANDARD
TZOFFSETFROM:-0400
TZOFFSETTO:-0500
TZNAME:EST
DTSTART:20241103T060000
END:STANDARD
BEGIN:DAYLIGHT
TZOFFSETFROM:-0500
TZOFFSETTO:-0400
TZNAME:EDT
DTSTART:20250309T070000
END:DAYLIGHT
BEGIN:STANDARD
TZOFFSETFROM:-0400
TZOFFSETTO:-0500
TZNAME:EST
DTSTART:20251102T060000
END:STANDARD
BEGIN:DAYLIGHT
TZOFFSETFROM:-0500
TZOFFSETTO:-0400
TZNAME:EDT
DTSTART:20260308T070000
END:DAYLIGHT
BEGIN:STANDARD
TZOFFSETFROM:-0400
TZOFFSETTO:-0500
TZNAME:EST
DTSTART:20261101T060000
END:STANDARD
END:VTIMEZONE
BEGIN:VEVENT
DTSTART;TZID=America/New_York:20250426T100000
DTEND;TZID=America/New_York:20250427T160000
DTSTAMP:20260419T125516
CREATED:20250411T145000Z
LAST-MODIFIED:20250411T145147Z
UID:10000022-1745661600-1745769600@wildwoodhealth.org
SUMMARY:Health Emphasis Weekend
DESCRIPTION:LEARN HOW TO: INCREASE YOUR ENDURANCE- REGAIN YOUR ENERGY- EAT MORE  WEIGH LESS- REVERSE DIABETES\, HIGH BLOOD PRESSURE\, HEART DISEASE- LOWER CHOLESTEROL- RAISE HEALTHY KIDS… \nGAIN PRACTICAL LIFE CHANGING PRINCIPLES AND PRACTICES THAT ARE SURE TO BRING GOOD HEALTH TO YOUR MIND\, BODY\, AND SOUL. \n•	Interactive Health Seminar\n•	One-on-One Consultation \nWHERE: Statesville SDA Church\, 2429 EAST BROAD STREET\, STATESVILLE\, NC 28625 \nDATE(S) AND TIMES: Saturday April 26 (10.50am)\, Sunday April 27 (10am – 4.00pm)
URL:https://wildwoodhealth.org/event/health-emphasis-weekend/
LOCATION:GA
ATTACH;FMTTYPE=image/png:https://wildwoodhealth.org/wp-content/uploads/sites/7/2025/04/Screenshot-2025-04-11-at-10.47.03 AM.png
ORGANIZER;CN="Statesville SDA Church":MAILTO:statesvillesdahealthministries@gmail.com
END:VEVENT
END:VCALENDAR